BEGIN:VCALENDAR
VERSION:2.0
PRODID:-//Pictures London//Cinema Listings//EN
CALSCALE:GREGORIAN
METHOD:PUBLISH
X-WR-CALNAME:Pictures London Cinema
BEGIN:VEVENT
UID:ffd924f0-277c-4476-92c2-9c274f24df94@pictures.london
DTSTART:20260426T194500Z
DTEND:20260426T214200Z
SUMMARY:300 (2007) at Everyman Broadgate
DESCRIPTION:300 (2007)\nat Everyman Broadgate\nBook: https://purchase.everymancinema.com/launch/ticketing/cdab09b4-b05a-5651-952f-ea85232e9d0b\nvia Pictures (pictures.london)
LOCATION:Everyman Broadgate\, Broadgate Circle\, Liverpool Street\, EC2M 2QS
URL:https://purchase.everymancinema.com/launch/ticketing/cdab09b4-b05a-5651-952f-ea85232e9d0b
STATUS:CONFIRMED
END:VEVENT
END:VCALENDAR