BEGIN:VCALENDAR
VERSION:2.0
PRODID:-//Pictures London//Cinema Listings//EN
CALSCALE:GREGORIAN
METHOD:PUBLISH
X-WR-CALNAME:Pictures London Cinema
BEGIN:VEVENT
UID:ff583a1f-6bf3-4aec-8749-e9636d315433@pictures.london
DTSTART:20260421T163000Z
DTEND:20260421T181500Z
SUMMARY:The Drama (2026) at Olympic Studios
DESCRIPTION:The Drama (2026)\nat Olympic Studios\nBook: https://web1.empire.mycloudcinema.com/#/book/54821\nvia Pictures (pictures.london)
LOCATION:Olympic Studios\, 117-123 Church Road\, Barnes\, SW13 9HL
URL:https://web1.empire.mycloudcinema.com/#/book/54821
STATUS:CONFIRMED
END:VEVENT
END:VCALENDAR