BEGIN:VCALENDAR
VERSION:2.0
PRODID:-//Pictures London//Cinema Listings//EN
CALSCALE:GREGORIAN
METHOD:PUBLISH
X-WR-CALNAME:Pictures London Cinema
BEGIN:VEVENT
UID:ff33a94e-9cd0-4631-a5bc-f9af0d63dcca@pictures.london
DTSTART:20260421T200000Z
DTEND:20260421T214500Z
SUMMARY:The Drama (2026) at Curzon Kingston
DESCRIPTION:The Drama (2026)\nat Curzon Kingston\nBook: https://www.curzon.com/films/the-drama/HO00006892/\nvia Pictures (pictures.london)
LOCATION:Curzon Kingston\, Richmond Road\, Kingston\, KT2 5BW
URL:https://www.curzon.com/films/the-drama/HO00006892/
STATUS:CONFIRMED
END:VEVENT
END:VCALENDAR