BEGIN:VCALENDAR
VERSION:2.0
PRODID:-//Pictures London//Cinema Listings//EN
CALSCALE:GREGORIAN
METHOD:PUBLISH
X-WR-CALNAME:Pictures London Cinema
BEGIN:VEVENT
UID:feec2d5b-4fc1-4d9a-9717-70c94599509d@pictures.london
DTSTART:20260427T111500Z
DTEND:20260427T124900Z
SUMMARY:Days of Being Wild (1990) at Prince Charles Cinema
DESCRIPTION:Days of Being Wild (1990)\nat Prince Charles Cinema\nBook: https://princecharlescinema.com/prince-charles-cinema/booknow/31625630\nvia Pictures (pictures.london)
LOCATION:Prince Charles Cinema\, 7 Leicester Place\, Leicester Square\, WC2H 7BY
URL:https://princecharlescinema.com/prince-charles-cinema/booknow/31625630
STATUS:CONFIRMED
END:VEVENT
END:VCALENDAR