BEGIN:VCALENDAR
VERSION:2.0
PRODID:-//Pictures London//Cinema Listings//EN
CALSCALE:GREGORIAN
METHOD:PUBLISH
X-WR-CALNAME:Pictures London Cinema
BEGIN:VEVENT
UID:fee8e072-53ac-4c93-8568-43044c887685@pictures.london
DTSTART:20260421T145000Z
DTEND:20260421T162600Z
SUMMARY:Rebuilding (2025) at Ealing Picturehouse
DESCRIPTION:Rebuilding (2025)\nat Ealing Picturehouse\nBook: https://www.picturehouses.com/movie-details/031/HO00017446/rebuilding\nvia Pictures (pictures.london)
LOCATION:Ealing Picturehouse\, The Ealing Cinema\, Ealing Green\, Ealing\, W5 2PA
URL:https://www.picturehouses.com/movie-details/031/HO00017446/rebuilding
STATUS:CONFIRMED
END:VEVENT
END:VCALENDAR