BEGIN:VCALENDAR
VERSION:2.0
PRODID:-//Pictures London//Cinema Listings//EN
CALSCALE:GREGORIAN
METHOD:PUBLISH
X-WR-CALNAME:Pictures London Cinema
BEGIN:VEVENT
UID:fedff775-7b4f-4f2e-a4f9-bfe89a6ab25a@pictures.london
DTSTART:20260421T100000Z
DTEND:20260421T120000Z
SUMMARY:AKIRA (2026 Re-release) (Subbed) (2026) at Everyman Canary Wharf
DESCRIPTION:AKIRA (2026 Re-release) (Subbed) (2026)\nat Everyman Canary Wharf\nFormat: DCP_4K\nBook: https://purchase.everymancinema.com/launch/ticketing/699adfb5-72b9-54c5-8e5d-908a46f8ca8b\nvia Pictures (pictures.london)
LOCATION:Everyman Canary Wharf\, Crossrail Place\, Canary Wharf\, E14 5NY
URL:https://purchase.everymancinema.com/launch/ticketing/699adfb5-72b9-54c5-8e5d-908a46f8ca8b
STATUS:CONFIRMED
END:VEVENT
END:VCALENDAR