BEGIN:VCALENDAR
VERSION:2.0
PRODID:-//Pictures London//Cinema Listings//EN
CALSCALE:GREGORIAN
METHOD:PUBLISH
X-WR-CALNAME:Pictures London Cinema
BEGIN:VEVENT
UID:fe8d32a2-5fb2-4bce-ae9c-4d952739ced3@pictures.london
DTSTART:20260422T133000Z
DTEND:20260422T153700Z
SUMMARY:Michael (2026) at Everyman Crystal Palace
DESCRIPTION:Michael (2026)\nat Everyman Crystal Palace\nBook: https://purchase.everymancinema.com/launch/ticketing/7c2d2c0c-f8ad-517f-a634-cdee6eca0091\nvia Pictures (pictures.london)
LOCATION:Everyman Crystal Palace\, 25 Church Road\, Crystal Palace\, SE19 2AE
URL:https://purchase.everymancinema.com/launch/ticketing/7c2d2c0c-f8ad-517f-a634-cdee6eca0091
STATUS:CONFIRMED
END:VEVENT
END:VCALENDAR