BEGIN:VCALENDAR
VERSION:2.0
PRODID:-//Pictures London//Cinema Listings//EN
CALSCALE:GREGORIAN
METHOD:PUBLISH
X-WR-CALNAME:Pictures London Cinema
BEGIN:VEVENT
UID:fe205c3f-f185-495c-a5b9-f399e1e2db34@pictures.london
DTSTART:20260421T160000Z
DTEND:20260421T175000Z
SUMMARY:The Magic Faraway Tree (2026) at Ealing Picturehouse
DESCRIPTION:The Magic Faraway Tree (2026)\nat Ealing Picturehouse\nBook: https://www.picturehouses.com/movie-details/031/HO00017688/the-magic-faraway-tree\nvia Pictures (pictures.london)
LOCATION:Ealing Picturehouse\, The Ealing Cinema\, Ealing Green\, Ealing\, W5 2PA
URL:https://www.picturehouses.com/movie-details/031/HO00017688/the-magic-faraway-tree
STATUS:CONFIRMED
END:VEVENT
END:VCALENDAR