BEGIN:VCALENDAR
VERSION:2.0
PRODID:-//Pictures London//Cinema Listings//EN
CALSCALE:GREGORIAN
METHOD:PUBLISH
X-WR-CALNAME:Pictures London Cinema
BEGIN:VEVENT
UID:fdfc0aad-bd9e-443f-b909-b1a6d8921da9@pictures.london
DTSTART:20260425T173000Z
DTEND:20260425T174100Z
SUMMARY:Second Class Passenger (1973) at Close-Up Cinema
DESCRIPTION:Second Class Passenger (1973)\nat Close-Up Cinema\nBook: https://www.ticketsource.co.uk/close-up-cinema/e-gryeal\nvia Pictures (pictures.london)
LOCATION:Close-Up Cinema\, 97 Sclater Street\, Shoreditch\, E1 6HR
URL:https://www.ticketsource.co.uk/close-up-cinema/e-gryeal
STATUS:CONFIRMED
END:VEVENT
END:VCALENDAR