BEGIN:VCALENDAR
VERSION:2.0
PRODID:-//Pictures London//Cinema Listings//EN
CALSCALE:GREGORIAN
METHOD:PUBLISH
X-WR-CALNAME:Pictures London Cinema
BEGIN:VEVENT
UID:fd5b58d4-87be-4489-8908-d0dd85010322@pictures.london
DTSTART:20260501T103000Z
DTEND:20260501T122900Z
SUMMARY:The Devil Wears Prada 2 (2026) at Screen on the Green
DESCRIPTION:The Devil Wears Prada 2 (2026)\nat Screen on the Green\nBook: https://purchase.everymancinema.com/launch/ticketing/230f4961-44df-5499-bf4f-06a07db02349\nvia Pictures (pictures.london)
LOCATION:Screen on the Green\, 83 Upper Street\, Islington\, N1 0PH
URL:https://purchase.everymancinema.com/launch/ticketing/230f4961-44df-5499-bf4f-06a07db02349
STATUS:CONFIRMED
END:VEVENT
END:VCALENDAR