BEGIN:VCALENDAR
VERSION:2.0
PRODID:-//Pictures London//Cinema Listings//EN
CALSCALE:GREGORIAN
METHOD:PUBLISH
X-WR-CALNAME:Pictures London Cinema
BEGIN:VEVENT
UID:fc3db0c7-ad56-4a0f-8070-0ef232c6b32f@pictures.london
DTSTART:20260421T160000Z
DTEND:20260421T173900Z
SUMMARY:Glenrothan (2026) at Everyman Barnet
DESCRIPTION:Glenrothan (2026)\nat Everyman Barnet\nBook: https://purchase.everymancinema.com/launch/ticketing/e0cf4846-b9c3-5ff1-b78b-99e0ca5219b7\nvia Pictures (pictures.london)
LOCATION:Everyman Barnet\, Great North Road\, Barnet\, EN5 5SJ
URL:https://purchase.everymancinema.com/launch/ticketing/e0cf4846-b9c3-5ff1-b78b-99e0ca5219b7
STATUS:CONFIRMED
END:VEVENT
END:VCALENDAR