BEGIN:VCALENDAR
VERSION:2.0
PRODID:-//Pictures London//Cinema Listings//EN
CALSCALE:GREGORIAN
METHOD:PUBLISH
X-WR-CALNAME:Pictures London Cinema
BEGIN:VEVENT
UID:fc15c850-a692-4e82-a1cf-2662d919c134@pictures.london
DTSTART:20260425T091500Z
DTEND:20260425T103900Z
SUMMARY:Chicken Run (2000) at Rio Cinema
DESCRIPTION:Chicken Run (2000)\nat Rio Cinema\nBook: https://riocinema.org.uk/Rio.dll/WhatsOn?f=2206601\nvia Pictures (pictures.london)
LOCATION:Rio Cinema\, 107 Kingsland High Street\, Dalston\, E8 2PB
URL:https://riocinema.org.uk/Rio.dll/WhatsOn?f=2206601
STATUS:CONFIRMED
END:VEVENT
END:VCALENDAR