BEGIN:VCALENDAR
VERSION:2.0
PRODID:-//Pictures London//Cinema Listings//EN
CALSCALE:GREGORIAN
METHOD:PUBLISH
X-WR-CALNAME:Pictures London Cinema
BEGIN:VEVENT
UID:fbddb0b1-3054-42fd-954e-90dee184196e@pictures.london
DTSTART:20260501T173000Z
DTEND:20260501T192900Z
SUMMARY:The Devil Wears Prada 2 (2026) at Everyman Crystal Palace
DESCRIPTION:The Devil Wears Prada 2 (2026)\nat Everyman Crystal Palace\nBook: https://purchase.everymancinema.com/launch/ticketing/208c89da-07f9-5f34-b38c-f414aaee53b8\nvia Pictures (pictures.london)
LOCATION:Everyman Crystal Palace\, 25 Church Road\, Crystal Palace\, SE19 2AE
URL:https://purchase.everymancinema.com/launch/ticketing/208c89da-07f9-5f34-b38c-f414aaee53b8
STATUS:CONFIRMED
END:VEVENT
END:VCALENDAR