BEGIN:VCALENDAR
VERSION:2.0
PRODID:-//Pictures London//Cinema Listings//EN
CALSCALE:GREGORIAN
METHOD:PUBLISH
X-WR-CALNAME:Pictures London Cinema
BEGIN:VEVENT
UID:fba2688e-94a2-415f-85d0-63d6115433e1@pictures.london
DTSTART:20260421T133000Z
DTEND:20260421T153400Z
SUMMARY:Akira (1988) at Everyman Muswell Hill
DESCRIPTION:Akira (1988)\nat Everyman Muswell Hill\nFormat: DCP_4K\nBook: https://purchase.everymancinema.com/launch/ticketing/3f901701-5ddd-5891-9ac5-8b6e85c32b77\nvia Pictures (pictures.london)
LOCATION:Everyman Muswell Hill\, Fortis Green Road\, Muswell Hill\, N10 3TD
URL:https://purchase.everymancinema.com/launch/ticketing/3f901701-5ddd-5891-9ac5-8b6e85c32b77
STATUS:CONFIRMED
END:VEVENT
END:VCALENDAR