BEGIN:VCALENDAR
VERSION:2.0
PRODID:-//Pictures London//Cinema Listings//EN
CALSCALE:GREGORIAN
METHOD:PUBLISH
X-WR-CALNAME:Pictures London Cinema
BEGIN:VEVENT
UID:fb92685e-8064-4570-81f0-d610d1fb49d8@pictures.london
DTSTART:20260426T210000Z
DTEND:20260426T225700Z
SUMMARY:300 (2007) at Everyman Chelsea
DESCRIPTION:300 (2007)\nat Everyman Chelsea\nBook: https://purchase.everymancinema.com/launch/ticketing/a6945118-c20c-541d-bd3f-81e2a1c777f0\nvia Pictures (pictures.london)
LOCATION:Everyman Chelsea\, 279 King's Road\, Chelsea\, SW3 3TD
URL:https://purchase.everymancinema.com/launch/ticketing/a6945118-c20c-541d-bd3f-81e2a1c777f0
STATUS:CONFIRMED
END:VEVENT
END:VCALENDAR