BEGIN:VCALENDAR
VERSION:2.0
PRODID:-//Pictures London//Cinema Listings//EN
CALSCALE:GREGORIAN
METHOD:PUBLISH
X-WR-CALNAME:Pictures London Cinema
BEGIN:VEVENT
UID:fafb181d-35ce-497b-92b7-fb8d4fea64d0@pictures.london
DTSTART:20260422T163000Z
DTEND:20260422T183700Z
SUMMARY:Michael (2026) at The Ritzy
DESCRIPTION:Michael (2026)\nat The Ritzy\nBook: https://www.picturehouses.com/movie-details/004/HO00017772/michael\nvia Pictures (pictures.london)
LOCATION:The Ritzy\, Brixton Oval\, Coldharbour Lane\, Brixton\, SW2 1JG
URL:https://www.picturehouses.com/movie-details/004/HO00017772/michael
STATUS:CONFIRMED
END:VEVENT
END:VCALENDAR