BEGIN:VCALENDAR
VERSION:2.0
PRODID:-//Pictures London//Cinema Listings//EN
CALSCALE:GREGORIAN
METHOD:PUBLISH
X-WR-CALNAME:Pictures London Cinema
BEGIN:VEVENT
UID:faab4132-b252-4db5-b976-bbb1eaddddf1@pictures.london
DTSTART:20260422T193000Z
DTEND:20260422T213700Z
SUMMARY:Michael (2026) at Everyman Chelsea
DESCRIPTION:Michael (2026)\nat Everyman Chelsea\nBook: https://purchase.everymancinema.com/launch/ticketing/caead975-1d27-537e-9202-648628360948\nvia Pictures (pictures.london)
LOCATION:Everyman Chelsea\, 279 King's Road\, Chelsea\, SW3 3TD
URL:https://purchase.everymancinema.com/launch/ticketing/caead975-1d27-537e-9202-648628360948
STATUS:CONFIRMED
END:VEVENT
END:VCALENDAR