BEGIN:VCALENDAR
VERSION:2.0
PRODID:-//Pictures London//Cinema Listings//EN
CALSCALE:GREGORIAN
METHOD:PUBLISH
X-WR-CALNAME:Pictures London Cinema
BEGIN:VEVENT
UID:f9ee1e75-b67d-4bea-a02e-906e532478c9@pictures.london
DTSTART:20260528T173000Z
DTEND:20260528T193000Z
SUMMARY:Doc'n Roll x Rio: PARADISE UK Premiere + Q&amp\;A at Rio Cinema
DESCRIPTION:Doc'n Roll x Rio: PARADISE UK Premiere + Q&amp\;A\nat Rio Cinema\nBook: https://riocinema.org.uk/Rio.dll/WhatsOn?f=2239065\nvia Pictures (pictures.london)
LOCATION:Rio Cinema\, 107 Kingsland High Street\, Dalston\, E8 2PB
URL:https://riocinema.org.uk/Rio.dll/WhatsOn?f=2239065
STATUS:CONFIRMED
END:VEVENT
END:VCALENDAR