BEGIN:VCALENDAR
VERSION:2.0
PRODID:-//Pictures London//Cinema Listings//EN
CALSCALE:GREGORIAN
METHOD:PUBLISH
X-WR-CALNAME:Pictures London Cinema
BEGIN:VEVENT
UID:f99de376-cc32-4e85-84fb-d93c9f288331@pictures.london
DTSTART:20260421T173000Z
DTEND:20260421T193000Z
SUMMARY:The Adventures of Prince Achmed - 100th anniversary live score (1926) at Garden Cinema
DESCRIPTION:The Adventures of Prince Achmed - 100th anniversary live score (1926)\nat Garden Cinema\nBook: https://bookings.thegardencinema.co.uk/TheGardenCinema.dll/TSelectItems.waSelectItemsPrompt.TcsWebMenuItem_0.TcsWebTab_0.TcsPerformance_5236869.TcsSection_638\nvia Pictures (pictures.london)
LOCATION:Garden Cinema\, 39-41 Parker Street\, Covent Garden\, WC2B 5PQ
URL:https://bookings.thegardencinema.co.uk/TheGardenCinema.dll/TSelectItems.waSelectItemsPrompt.TcsWebMenuItem_0.TcsWebTab_0.TcsPerformance_5236869.TcsSection_638
STATUS:CONFIRMED
END:VEVENT
END:VCALENDAR