BEGIN:VCALENDAR
VERSION:2.0
PRODID:-//Pictures London//Cinema Listings//EN
CALSCALE:GREGORIAN
METHOD:PUBLISH
X-WR-CALNAME:Pictures London Cinema
BEGIN:VEVENT
UID:f9323f2f-f549-45e5-b6de-21058cee9759@pictures.london
DTSTART:20260425T140000Z
DTEND:20260425T153700Z
SUMMARY:After Hours (1985) at The Ritzy
DESCRIPTION:After Hours (1985)\nat The Ritzy\nFormat: DCP_4K\nBook: https://www.picturehouses.com/movie-details/004/HO00014433/after-hours-4k-restoration\nvia Pictures (pictures.london)
LOCATION:The Ritzy\, Brixton Oval\, Coldharbour Lane\, Brixton\, SW2 1JG
URL:https://www.picturehouses.com/movie-details/004/HO00014433/after-hours-4k-restoration
STATUS:CONFIRMED
END:VEVENT
END:VCALENDAR