BEGIN:VCALENDAR
VERSION:2.0
PRODID:-//Pictures London//Cinema Listings//EN
CALSCALE:GREGORIAN
METHOD:PUBLISH
X-WR-CALNAME:Pictures London Cinema
BEGIN:VEVENT
UID:f908b366-caa1-45cb-87df-84f3041f9abb@pictures.london
DTSTART:20260424T171500Z
DTEND:20260424T185100Z
SUMMARY:The Cremator (1969) at Prince Charles Cinema
DESCRIPTION:The Cremator (1969)\nat Prince Charles Cinema\nBook: https://princecharlescinema.com/prince-charles-cinema/booknow/31625609\nvia Pictures (pictures.london)
LOCATION:Prince Charles Cinema\, 7 Leicester Place\, Leicester Square\, WC2H 7BY
URL:https://princecharlescinema.com/prince-charles-cinema/booknow/31625609
STATUS:CONFIRMED
END:VEVENT
END:VCALENDAR