BEGIN:VCALENDAR
VERSION:2.0
PRODID:-//Pictures London//Cinema Listings//EN
CALSCALE:GREGORIAN
METHOD:PUBLISH
X-WR-CALNAME:Pictures London Cinema
BEGIN:VEVENT
UID:f8fae1f7-a0f4-4fd5-b0f5-46527af5a8e1@pictures.london
DTSTART:20260421T191500Z
DTEND:20260421T205500Z
SUMMARY:The Christophers (2026) at Clapham Picturehouse
DESCRIPTION:The Christophers (2026)\nat Clapham Picturehouse\nEvent: preview\nBook: https://www.picturehouses.com/movie-details/020/HO00017892/the-christophers-live-broadcast-q-a\nvia Pictures (pictures.london)
LOCATION:Clapham Picturehouse\, 76 Venn Street\, Clapham\, SW4 7UL
URL:https://www.picturehouses.com/movie-details/020/HO00017892/the-christophers-live-broadcast-q-a
STATUS:CONFIRMED
END:VEVENT
END:VCALENDAR