BEGIN:VCALENDAR
VERSION:2.0
PRODID:-//Pictures London//Cinema Listings//EN
CALSCALE:GREGORIAN
METHOD:PUBLISH
X-WR-CALNAME:Pictures London Cinema
BEGIN:VEVENT
UID:f85998aa-5650-466f-9197-b336915d2745@pictures.london
DTSTART:20260422T163000Z
DTEND:20260422T183000Z
SUMMARY:DELETED SCENES PRESENTS: CECIL B. DEMENTED (2000) at The Nickel
DESCRIPTION:DELETED SCENES PRESENTS: CECIL B. DEMENTED (2000)\nat The Nickel\nFormat: DIGITAL\nBook: https://book.thenickel.co.uk/screening/278\nvia Pictures (pictures.london)
LOCATION:The Nickel\, 194 Upper Street\, Islington\, N1 1RQ
URL:https://book.thenickel.co.uk/screening/278
STATUS:CONFIRMED
END:VEVENT
END:VCALENDAR