BEGIN:VCALENDAR
VERSION:2.0
PRODID:-//Pictures London//Cinema Listings//EN
CALSCALE:GREGORIAN
METHOD:PUBLISH
X-WR-CALNAME:Pictures London Cinema
BEGIN:VEVENT
UID:f7a6e859-8b20-4bb7-8cf1-6d700d74f397@pictures.london
DTSTART:20260424T132000Z
DTEND:20260424T152000Z
SUMMARY:Easter Parade at Hackney Picturehouse
DESCRIPTION:Easter Parade\nat Hackney Picturehouse\nBook: https://www.picturehouses.com/movie-details/010/HO00012740/easter-parade\nvia Pictures (pictures.london)
LOCATION:Hackney Picturehouse\, 270 Mare Street\, Hackney\, E8 1EJ
URL:https://www.picturehouses.com/movie-details/010/HO00012740/easter-parade
STATUS:CONFIRMED
END:VEVENT
END:VCALENDAR