BEGIN:VCALENDAR
VERSION:2.0
PRODID:-//Pictures London//Cinema Listings//EN
CALSCALE:GREGORIAN
METHOD:PUBLISH
X-WR-CALNAME:Pictures London Cinema
BEGIN:VEVENT
UID:f77e8546-e89a-44a6-af60-65dd668f9b55@pictures.london
DTSTART:20260615T133000Z
DTEND:20260615T153400Z
SUMMARY:Jaws (1975) at Rio Cinema
DESCRIPTION:Jaws (1975)\nat Rio Cinema\nBook: https://riocinema.org.uk/Rio.dll/WhatsOn?f=2266028\nvia Pictures (pictures.london)
LOCATION:Rio Cinema\, 107 Kingsland High Street\, Dalston\, E8 2PB
URL:https://riocinema.org.uk/Rio.dll/WhatsOn?f=2266028
STATUS:CONFIRMED
END:VEVENT
END:VCALENDAR