BEGIN:VCALENDAR
VERSION:2.0
PRODID:-//Pictures London//Cinema Listings//EN
CALSCALE:GREGORIAN
METHOD:PUBLISH
X-WR-CALNAME:Pictures London Cinema
BEGIN:VEVENT
UID:f6dcb99e-a631-440c-8ff2-78d3dcc0971c@pictures.london
DTSTART:20260421T171500Z
DTEND:20260421T185300Z
SUMMARY:The Super Mario Galaxy Movie (2026) at Peckhamplex
DESCRIPTION:The Super Mario Galaxy Movie (2026)\nat Peckhamplex\nBook: https://ticketing.eu.veezi.com/purchase/79570?siteToken=zkD3Bh7H%2fkuZI9VTgCj%2bgg%3d%3d\nvia Pictures (pictures.london)
LOCATION:Peckhamplex\, 95A Rye Lane\, Peckham\, SE15 4ST
URL:https://ticketing.eu.veezi.com/purchase/79570?siteToken=zkD3Bh7H%2fkuZI9VTgCj%2bgg%3d%3d
STATUS:CONFIRMED
END:VEVENT
END:VCALENDAR