BEGIN:VCALENDAR
VERSION:2.0
PRODID:-//Pictures London//Cinema Listings//EN
CALSCALE:GREGORIAN
METHOD:PUBLISH
X-WR-CALNAME:Pictures London Cinema
BEGIN:VEVENT
UID:f6c93c7e-6597-4d27-bd40-21d1c4cdf9a1@pictures.london
DTSTART:20260424T191500Z
DTEND:20260424T210700Z
SUMMARY:Mother Mary (2026) at Castle Sidcup
DESCRIPTION:Mother Mary (2026)\nat Castle Sidcup\nBook: https://castlesidcup.com/bookings/1652/\nvia Pictures (pictures.london)
LOCATION:Castle Sidcup\, 44 Main Road\, Sidcup\, DA14 6NJ
URL:https://castlesidcup.com/bookings/1652/
STATUS:CONFIRMED
END:VEVENT
END:VCALENDAR