BEGIN:VCALENDAR
VERSION:2.0
PRODID:-//Pictures London//Cinema Listings//EN
CALSCALE:GREGORIAN
METHOD:PUBLISH
X-WR-CALNAME:Pictures London Cinema
BEGIN:VEVENT
UID:f66a1bac-d9e7-4376-9762-acd7d3be1a35@pictures.london
DTSTART:20260501T164000Z
DTEND:20260501T183900Z
SUMMARY:The Devil Wears Prada 2 (2026) at Olympic Studios
DESCRIPTION:The Devil Wears Prada 2 (2026)\nat Olympic Studios\nBook: https://web1.empire.mycloudcinema.com/#/book/53569\nvia Pictures (pictures.london)
LOCATION:Olympic Studios\, 117-123 Church Road\, Barnes\, SW13 9HL
URL:https://web1.empire.mycloudcinema.com/#/book/53569
STATUS:CONFIRMED
END:VEVENT
END:VCALENDAR