BEGIN:VCALENDAR
VERSION:2.0
PRODID:-//Pictures London//Cinema Listings//EN
CALSCALE:GREGORIAN
METHOD:PUBLISH
X-WR-CALNAME:Pictures London Cinema
BEGIN:VEVENT
UID:f5550dff-03c9-44d7-96f9-41e8402e43c5@pictures.london
DTSTART:20260422T160000Z
DTEND:20260422T180700Z
SUMMARY:Michael (2026) at Everyman Barnet
DESCRIPTION:Michael (2026)\nat Everyman Barnet\nBook: https://purchase.everymancinema.com/launch/ticketing/2da735c8-c46f-5778-af34-d70e9879c970\nvia Pictures (pictures.london)
LOCATION:Everyman Barnet\, Great North Road\, Barnet\, EN5 5SJ
URL:https://purchase.everymancinema.com/launch/ticketing/2da735c8-c46f-5778-af34-d70e9879c970
STATUS:CONFIRMED
END:VEVENT
END:VCALENDAR