BEGIN:VCALENDAR
VERSION:2.0
PRODID:-//Pictures London//Cinema Listings//EN
CALSCALE:GREGORIAN
METHOD:PUBLISH
X-WR-CALNAME:Pictures London Cinema
BEGIN:VEVENT
UID:f4c31dcd-26b1-45f4-96c2-143167c492ae@pictures.london
DTSTART:20260421T191500Z
DTEND:20260421T205500Z
SUMMARY:The Christophers (2026) at The Ritzy
DESCRIPTION:The Christophers (2026)\nat The Ritzy\nEvent: preview\nBook: https://www.picturehouses.com/movie-details/004/HO00017892/the-christophers-live-broadcast-q-a\nvia Pictures (pictures.london)
LOCATION:The Ritzy\, Brixton Oval\, Coldharbour Lane\, Brixton\, SW2 1JG
URL:https://www.picturehouses.com/movie-details/004/HO00017892/the-christophers-live-broadcast-q-a
STATUS:CONFIRMED
END:VEVENT
END:VCALENDAR