BEGIN:VCALENDAR
VERSION:2.0
PRODID:-//Pictures London//Cinema Listings//EN
CALSCALE:GREGORIAN
METHOD:PUBLISH
X-WR-CALNAME:Pictures London Cinema
BEGIN:VEVENT
UID:f4ad8771-c1bb-4927-816f-97ea0766a71e@pictures.london
DTSTART:20260421T194500Z
DTEND:20260421T213000Z
SUMMARY:The Drama (2026) at Crouch End Picturehouse
DESCRIPTION:The Drama (2026)\nat Crouch End Picturehouse\nBook: https://www.picturehouses.com/movie-details/024/HO00017737/the-drama\nvia Pictures (pictures.london)
LOCATION:Crouch End Picturehouse\, 165 Tottenham Lane\, Crouch End\, N8 8HP
URL:https://www.picturehouses.com/movie-details/024/HO00017737/the-drama
STATUS:CONFIRMED
END:VEVENT
END:VCALENDAR