BEGIN:VCALENDAR
VERSION:2.0
PRODID:-//Pictures London//Cinema Listings//EN
CALSCALE:GREGORIAN
METHOD:PUBLISH
X-WR-CALNAME:Pictures London Cinema
BEGIN:VEVENT
UID:f3c8a2a5-6c9f-4275-9412-e114fccc20cd@pictures.london
DTSTART:20260421T204500Z
DTEND:20260421T223000Z
SUMMARY:The Drama (2026) at Everyman Crystal Palace
DESCRIPTION:The Drama (2026)\nat Everyman Crystal Palace\nBook: https://purchase.everymancinema.com/launch/ticketing/608f4ba0-8d02-570d-b4b2-104dfb7c063f\nvia Pictures (pictures.london)
LOCATION:Everyman Crystal Palace\, 25 Church Road\, Crystal Palace\, SE19 2AE
URL:https://purchase.everymancinema.com/launch/ticketing/608f4ba0-8d02-570d-b4b2-104dfb7c063f
STATUS:CONFIRMED
END:VEVENT
END:VCALENDAR