BEGIN:VCALENDAR
VERSION:2.0
PRODID:-//Pictures London//Cinema Listings//EN
CALSCALE:GREGORIAN
METHOD:PUBLISH
X-WR-CALNAME:Pictures London Cinema
BEGIN:VEVENT
UID:f2fbb94d-a76f-46a1-bd28-1390dfa330a5@pictures.london
DTSTART:20260422T190000Z
DTEND:20260422T210700Z
SUMMARY:Michael (2026) at Everyman Borough Yards
DESCRIPTION:Michael (2026)\nat Everyman Borough Yards\nBook: https://purchase.everymancinema.com/launch/ticketing/3cf1b6ea-949b-5693-bb7b-b8f6972a6ee9\nvia Pictures (pictures.london)
LOCATION:Everyman Borough Yards\, Borough Yards\, Borough\, SE1 9PH
URL:https://purchase.everymancinema.com/launch/ticketing/3cf1b6ea-949b-5693-bb7b-b8f6972a6ee9
STATUS:CONFIRMED
END:VEVENT
END:VCALENDAR