BEGIN:VCALENDAR
VERSION:2.0
PRODID:-//Pictures London//Cinema Listings//EN
CALSCALE:GREGORIAN
METHOD:PUBLISH
X-WR-CALNAME:Pictures London Cinema
BEGIN:VEVENT
UID:f2f495e7-5810-4595-87de-23d0eab260e8@pictures.london
DTSTART:20260424T132000Z
DTEND:20260424T135400Z
SUMMARY:Easter Parade: On the Avenue (2005) at Hackney Picturehouse
DESCRIPTION:Easter Parade: On the Avenue (2005)\nat Hackney Picturehouse\nBook: https://www.picturehouses.com/movie-details/010/HO00012740/easter-parade\nvia Pictures (pictures.london)
LOCATION:Hackney Picturehouse\, 270 Mare Street\, Hackney\, E8 1EJ
URL:https://www.picturehouses.com/movie-details/010/HO00012740/easter-parade
STATUS:CONFIRMED
END:VEVENT
END:VCALENDAR