BEGIN:VCALENDAR
VERSION:2.0
PRODID:-//Pictures London//Cinema Listings//EN
CALSCALE:GREGORIAN
METHOD:PUBLISH
X-WR-CALNAME:Pictures London Cinema
BEGIN:VEVENT
UID:f27095cc-19f9-4db0-9b40-0be349d9d43b@pictures.london
DTSTART:20260422T140000Z
DTEND:20260422T153000Z
SUMMARY:Paprika (2006) at Prince Charles Cinema
DESCRIPTION:Paprika (2006)\nat Prince Charles Cinema\nBook: https://princecharlescinema.com/prince-charles-cinema/booknow/31625573\nvia Pictures (pictures.london)
LOCATION:Prince Charles Cinema\, 7 Leicester Place\, Leicester Square\, WC2H 7BY
URL:https://princecharlescinema.com/prince-charles-cinema/booknow/31625573
STATUS:CONFIRMED
END:VEVENT
END:VCALENDAR