BEGIN:VCALENDAR
VERSION:2.0
PRODID:-//Pictures London//Cinema Listings//EN
CALSCALE:GREGORIAN
METHOD:PUBLISH
X-WR-CALNAME:Pictures London Cinema
BEGIN:VEVENT
UID:f2007d37-323c-462e-82d7-0b623bf86763@pictures.london
DTSTART:20260427T190000Z
DTEND:20260427T210800Z
SUMMARY:Opening Night Gala Starring Renée Fleming (2008) at Everyman King's Cross
DESCRIPTION:Opening Night Gala Starring Renée Fleming (2008)\nat Everyman King's Cross\nBook: https://purchase.everymancinema.com/launch/ticketing/1f89cb10-aa13-57c5-b054-112737ffd921\nvia Pictures (pictures.london)
LOCATION:Everyman King's Cross\, Coal Drops Yard\, King's Cross\, N1C 4AG
URL:https://purchase.everymancinema.com/launch/ticketing/1f89cb10-aa13-57c5-b054-112737ffd921
STATUS:CONFIRMED
END:VEVENT
END:VCALENDAR