BEGIN:VCALENDAR
VERSION:2.0
PRODID:-//Pictures London//Cinema Listings//EN
CALSCALE:GREGORIAN
METHOD:PUBLISH
X-WR-CALNAME:Pictures London Cinema
BEGIN:VEVENT
UID:f1a9ad1b-333a-4a29-a364-496a701964d4@pictures.london
DTSTART:20260422T194500Z
DTEND:20260422T214500Z
SUMMARY:DELETED SCENES PRESENTS: POLYESTER (1981) at The Nickel
DESCRIPTION:DELETED SCENES PRESENTS: POLYESTER (1981)\nat The Nickel\nFormat: DIGITAL\nBook: https://book.thenickel.co.uk/screening/279\nvia Pictures (pictures.london)
LOCATION:The Nickel\, 194 Upper Street\, Islington\, N1 1RQ
URL:https://book.thenickel.co.uk/screening/279
STATUS:CONFIRMED
END:VEVENT
END:VCALENDAR