BEGIN:VCALENDAR
VERSION:2.0
PRODID:-//Pictures London//Cinema Listings//EN
CALSCALE:GREGORIAN
METHOD:PUBLISH
X-WR-CALNAME:Pictures London Cinema
BEGIN:VEVENT
UID:f18bbf69-efc1-42dd-92f1-7b76208a77a2@pictures.london
DTSTART:20260421T204500Z
DTEND:20260421T223000Z
SUMMARY:The Drama (2026) at Everyman King's Cross
DESCRIPTION:The Drama (2026)\nat Everyman King's Cross\nBook: https://purchase.everymancinema.com/launch/ticketing/1d79eb34-497f-54c8-9ec6-6f6242f3acc5\nvia Pictures (pictures.london)
LOCATION:Everyman King's Cross\, Coal Drops Yard\, King's Cross\, N1C 4AG
URL:https://purchase.everymancinema.com/launch/ticketing/1d79eb34-497f-54c8-9ec6-6f6242f3acc5
STATUS:CONFIRMED
END:VEVENT
END:VCALENDAR