BEGIN:VCALENDAR
VERSION:2.0
PRODID:-//Pictures London//Cinema Listings//EN
CALSCALE:GREGORIAN
METHOD:PUBLISH
X-WR-CALNAME:Pictures London Cinema
BEGIN:VEVENT
UID:f0f2d825-08ce-49b3-a2c8-4f5fa092a8d3@pictures.london
DTSTART:20260421T173000Z
DTEND:20260421T192000Z
SUMMARY:The Magic Faraway Tree (2026) at Peckhamplex
DESCRIPTION:The Magic Faraway Tree (2026)\nat Peckhamplex\nBook: https://ticketing.eu.veezi.com/purchase/79571?siteToken=zkD3Bh7H%2fkuZI9VTgCj%2bgg%3d%3d\nvia Pictures (pictures.london)
LOCATION:Peckhamplex\, 95A Rye Lane\, Peckham\, SE15 4ST
URL:https://ticketing.eu.veezi.com/purchase/79571?siteToken=zkD3Bh7H%2fkuZI9VTgCj%2bgg%3d%3d
STATUS:CONFIRMED
END:VEVENT
END:VCALENDAR