BEGIN:VCALENDAR
VERSION:2.0
PRODID:-//Pictures London//Cinema Listings//EN
CALSCALE:GREGORIAN
METHOD:PUBLISH
X-WR-CALNAME:Pictures London Cinema
BEGIN:VEVENT
UID:f04183ba-e66a-45b4-b9e5-56502f5af762@pictures.london
DTSTART:20260421T170000Z
DTEND:20260421T191300Z
SUMMARY:La Grazia (2025) at Garden Cinema
DESCRIPTION:La Grazia (2025)\nat Garden Cinema\nBook: https://bookings.thegardencinema.co.uk/TheGardenCinema.dll/TSelectItems.waSelectItemsPrompt.TcsWebMenuItem_0.TcsWebTab_0.TcsPerformance_5409892.TcsSection_3060731\nvia Pictures (pictures.london)
LOCATION:Garden Cinema\, 39-41 Parker Street\, Covent Garden\, WC2B 5PQ
URL:https://bookings.thegardencinema.co.uk/TheGardenCinema.dll/TSelectItems.waSelectItemsPrompt.TcsWebMenuItem_0.TcsWebTab_0.TcsPerformance_5409892.TcsSection_3060731
STATUS:CONFIRMED
END:VEVENT
END:VCALENDAR