BEGIN:VCALENDAR
VERSION:2.0
PRODID:-//Pictures London//Cinema Listings//EN
CALSCALE:GREGORIAN
METHOD:PUBLISH
X-WR-CALNAME:Pictures London Cinema
BEGIN:VEVENT
UID:f029c1bb-4f9a-4d12-bce3-68ddc5de81b0@pictures.london
DTSTART:20260421T140000Z
DTEND:20260421T160000Z
SUMMARY:Amélie (25th Anniversary Re-release) (2026) at Finsbury Park Picturehouse
DESCRIPTION:Amélie (25th Anniversary Re-release) (2026)\nat Finsbury Park Picturehouse\nEvent: anniversary\nBook: https://www.picturehouses.com/movie-details/029/HO00014671/amelie-25th-anniversary-re-release\nvia Pictures (pictures.london)
LOCATION:Finsbury Park Picturehouse\, Unit B\, Finsbury Park Station\, Finsbury Park\, N4 3FP
URL:https://www.picturehouses.com/movie-details/029/HO00014671/amelie-25th-anniversary-re-release
STATUS:CONFIRMED
END:VEVENT
END:VCALENDAR