BEGIN:VCALENDAR
VERSION:2.0
PRODID:-//Pictures London//Cinema Listings//EN
CALSCALE:GREGORIAN
METHOD:PUBLISH
X-WR-CALNAME:Pictures London Cinema
BEGIN:VEVENT
UID:f0127f3c-6a5f-45ca-a103-c771bdbf9244@pictures.london
DTSTART:20260426T163000Z
DTEND:20260426T175800Z
SUMMARY:The Swinging Barmaids (1975) at The Nickel
DESCRIPTION:The Swinging Barmaids (1975)\nat The Nickel\nFormat: DIGITAL\nBook: https://book.thenickel.co.uk/screening/310\nvia Pictures (pictures.london)
LOCATION:The Nickel\, 194 Upper Street\, Islington\, N1 1RQ
URL:https://book.thenickel.co.uk/screening/310
STATUS:CONFIRMED
END:VEVENT
END:VCALENDAR