BEGIN:VCALENDAR
VERSION:2.0
PRODID:-//Pictures London//Cinema Listings//EN
CALSCALE:GREGORIAN
METHOD:PUBLISH
X-WR-CALNAME:Pictures London Cinema
BEGIN:VEVENT
UID:efda815b-3e92-460e-a842-798657d39cc4@pictures.london
DTSTART:20260422T145000Z
DTEND:20260422T165700Z
SUMMARY:Michael (2026) at Hackney Picturehouse
DESCRIPTION:Michael (2026)\nat Hackney Picturehouse\nBook: https://www.picturehouses.com/movie-details/010/HO00017772/michael\nvia Pictures (pictures.london)
LOCATION:Hackney Picturehouse\, 270 Mare Street\, Hackney\, E8 1EJ
URL:https://www.picturehouses.com/movie-details/010/HO00017772/michael
STATUS:CONFIRMED
END:VEVENT
END:VCALENDAR