BEGIN:VCALENDAR
VERSION:2.0
PRODID:-//Pictures London//Cinema Listings//EN
CALSCALE:GREGORIAN
METHOD:PUBLISH
X-WR-CALNAME:Pictures London Cinema
BEGIN:VEVENT
UID:efce6d7a-8160-4d54-9002-33d674629493@pictures.london
DTSTART:20260422T174500Z
DTEND:20260422T195200Z
SUMMARY:Michael (2026) at Rich Mix
DESCRIPTION:Michael (2026)\nat Rich Mix\nBook: https://richmix.org.uk/whats-on/cinema/michael/\nvia Pictures (pictures.london)
LOCATION:Rich Mix\, 35-47 Bethnal Green Road\, Shoreditch\, E1 6LA
URL:https://richmix.org.uk/whats-on/cinema/michael/
STATUS:CONFIRMED
END:VEVENT
END:VCALENDAR