BEGIN:VCALENDAR
VERSION:2.0
PRODID:-//Pictures London//Cinema Listings//EN
CALSCALE:GREGORIAN
METHOD:PUBLISH
X-WR-CALNAME:Pictures London Cinema
BEGIN:VEVENT
UID:ef80d43b-748a-4355-96b3-487ad77544a2@pictures.london
DTSTART:20260421T204000Z
DTEND:20260421T225800Z
SUMMARY:Master and Commander: The Far Side of the World (2003) at BFI Southbank
DESCRIPTION:Master and Commander: The Far Side of the World (2003)\nat BFI Southbank\nFormat: DIGITAL 4K\nBook: https://whatson.bfi.org.uk/Online/default.asp?doWork::WScontent::search=1&BOparam::WScontent::search::article_search_id=25E7EA2E-291F-44F9-8EBC-E560154FDAEB&BOset::WScontent::SearchCriteria::search_criteria=Master%20and%20Commander%3A%20The%20Far%20Side%20of%20the%20World\nvia Pictures (pictures.london)
LOCATION:BFI Southbank\, Belvedere Road\, South Bank\, SE1 8XT
URL:https://whatson.bfi.org.uk/Online/default.asp?doWork::WScontent::search=1&BOparam::WScontent::search::article_search_id=25E7EA2E-291F-44F9-8EBC-E560154FDAEB&BOset::WScontent::SearchCriteria::search_criteria=Master%20and%20Commander%3A%20The%20Far%20Side%20of%20the%20World
STATUS:CONFIRMED
END:VEVENT
END:VCALENDAR