BEGIN:VCALENDAR
VERSION:2.0
PRODID:-//Pictures London//Cinema Listings//EN
CALSCALE:GREGORIAN
METHOD:PUBLISH
X-WR-CALNAME:Pictures London Cinema
BEGIN:VEVENT
UID:ee9fea13-2e37-4301-b339-c28d5a5d3eca@pictures.london
DTSTART:20260425T180000Z
DTEND:20260425T193500Z
SUMMARY:Exit 8 (2025) at The Ritzy
DESCRIPTION:Exit 8 (2025)\nat The Ritzy\nBook: https://www.picturehouses.com/movie-details/004/HO00017878/exit-8\nvia Pictures (pictures.london)
LOCATION:The Ritzy\, Brixton Oval\, Coldharbour Lane\, Brixton\, SW2 1JG
URL:https://www.picturehouses.com/movie-details/004/HO00017878/exit-8
STATUS:CONFIRMED
END:VEVENT
END:VCALENDAR