BEGIN:VCALENDAR
VERSION:2.0
PRODID:-//Pictures London//Cinema Listings//EN
CALSCALE:GREGORIAN
METHOD:PUBLISH
X-WR-CALNAME:Pictures London Cinema
BEGIN:VEVENT
UID:ee427637-9c4a-4d86-a505-8822894d53b2@pictures.london
DTSTART:20260422T104500Z
DTEND:20260422T125200Z
SUMMARY:Michael (2026) at Everyman Barnet
DESCRIPTION:Michael (2026)\nat Everyman Barnet\nBook: https://purchase.everymancinema.com/launch/ticketing/6019bc66-e49a-532d-a9a4-158f46a055ac\nvia Pictures (pictures.london)
LOCATION:Everyman Barnet\, Great North Road\, Barnet\, EN5 5SJ
URL:https://purchase.everymancinema.com/launch/ticketing/6019bc66-e49a-532d-a9a4-158f46a055ac
STATUS:CONFIRMED
END:VEVENT
END:VCALENDAR