BEGIN:VCALENDAR
VERSION:2.0
PRODID:-//Pictures London//Cinema Listings//EN
CALSCALE:GREGORIAN
METHOD:PUBLISH
X-WR-CALNAME:Pictures London Cinema
BEGIN:VEVENT
UID:ee12afb0-08a5-4cb7-85f0-fa89697d135b@pictures.london
DTSTART:20260421T194500Z
DTEND:20260421T214900Z
SUMMARY:Akira (1988) at Screen on the Green
DESCRIPTION:Akira (1988)\nat Screen on the Green\nFormat: DCP_4K\nBook: https://purchase.everymancinema.com/launch/ticketing/69325e4e-de0c-5f9d-9707-c3418aa1350b\nvia Pictures (pictures.london)
LOCATION:Screen on the Green\, 83 Upper Street\, Islington\, N1 0PH
URL:https://purchase.everymancinema.com/launch/ticketing/69325e4e-de0c-5f9d-9707-c3418aa1350b
STATUS:CONFIRMED
END:VEVENT
END:VCALENDAR