BEGIN:VCALENDAR
VERSION:2.0
PRODID:-//Pictures London//Cinema Listings//EN
CALSCALE:GREGORIAN
METHOD:PUBLISH
X-WR-CALNAME:Pictures London Cinema
BEGIN:VEVENT
UID:ee0de09f-425d-4780-a195-b3cd72f7e56f@pictures.london
DTSTART:20260421T121500Z
DTEND:20260421T140200Z
SUMMARY:California Schemin' (2026) at Finsbury Park Picturehouse
DESCRIPTION:California Schemin' (2026)\nat Finsbury Park Picturehouse\nBook: https://www.picturehouses.com/movie-details/029/HO00017757/california-schemin\nvia Pictures (pictures.london)
LOCATION:Finsbury Park Picturehouse\, Unit B\, Finsbury Park Station\, Finsbury Park\, N4 3FP
URL:https://www.picturehouses.com/movie-details/029/HO00017757/california-schemin
STATUS:CONFIRMED
END:VEVENT
END:VCALENDAR