BEGIN:VCALENDAR
VERSION:2.0
PRODID:-//Pictures London//Cinema Listings//EN
CALSCALE:GREGORIAN
METHOD:PUBLISH
X-WR-CALNAME:Pictures London Cinema
BEGIN:VEVENT
UID:ee0d0ed9-34c3-4234-b0e5-853895490859@pictures.london
DTSTART:20260421T190000Z
DTEND:20260421T205900Z
SUMMARY:Night Stage (2026) at Coldharbour Blue
DESCRIPTION:Night Stage (2026)\nat Coldharbour Blue\nFormat: DIGITAL\nBook: https://www.coldharbourblue.com/event/night-stage/\nvia Pictures (pictures.london)
LOCATION:Coldharbour Blue\, 259-260 Hardess Street\, Loughborough Junction\, SE24 0HN
URL:https://www.coldharbourblue.com/event/night-stage/
STATUS:CONFIRMED
END:VEVENT
END:VCALENDAR